BEGIN:VCALENDAR
VERSION:2.0
PRODID:-//Rovdjur - ECPv6.15.18//NONSGML v1.0//EN
CALSCALE:GREGORIAN
METHOD:PUBLISH
X-WR-CALNAME:Rovdjur
X-ORIGINAL-URL:https://rovdjur.se
X-WR-CALDESC:Händelser för Rovdjur
REFRESH-INTERVAL;VALUE=DURATION:PT1H
X-Robots-Tag:noindex
X-PUBLISHED-TTL:PT1H
BEGIN:VTIMEZONE
TZID:Europe/Stockholm
BEGIN:DAYLIGHT
TZOFFSETFROM:+0100
TZOFFSETTO:+0200
TZNAME:CEST
DTSTART:20230326T010000
END:DAYLIGHT
BEGIN:STANDARD
TZOFFSETFROM:+0200
TZOFFSETTO:+0100
TZNAME:CET
DTSTART:20231029T010000
END:STANDARD
BEGIN:DAYLIGHT
TZOFFSETFROM:+0100
TZOFFSETTO:+0200
TZNAME:CEST
DTSTART:20240331T010000
END:DAYLIGHT
BEGIN:STANDARD
TZOFFSETFROM:+0200
TZOFFSETTO:+0100
TZNAME:CET
DTSTART:20241027T010000
END:STANDARD
BEGIN:DAYLIGHT
TZOFFSETFROM:+0100
TZOFFSETTO:+0200
TZNAME:CEST
DTSTART:20250330T010000
END:DAYLIGHT
BEGIN:STANDARD
TZOFFSETFROM:+0200
TZOFFSETTO:+0100
TZNAME:CET
DTSTART:20251026T010000
END:STANDARD
BEGIN:DAYLIGHT
TZOFFSETFROM:+0100
TZOFFSETTO:+0200
TZNAME:CEST
DTSTART:20260329T010000
END:DAYLIGHT
BEGIN:STANDARD
TZOFFSETFROM:+0200
TZOFFSETTO:+0100
TZNAME:CET
DTSTART:20261025T010000
END:STANDARD
END:VTIMEZONE
BEGIN:VEVENT
DTSTART;TZID=Europe/Stockholm:20250211T100000
DTEND;TZID=Europe/Stockholm:20250211T120000
DTSTAMP:20260421T143307
CREATED:20241128T144231Z
LAST-MODIFIED:20260228T183559Z
UID:10000136-1739268000-1739275200@rovdjur.se
SUMMARY:ÖSTERGÖTLAND: Rovdjurskul på sportlovet
DESCRIPTION:Vi lär oss om våra stora rovdjur – björn\, varg\, lo\, och järv. Hur lever de? Vad äter de? Hur ser deras spår ut? Är de farliga? Kan man få se dem på riktigt? En tipsrunda och saft och bulle bjuder vi på. Hela familjen är välkommen! \n\n\n\n\n\nTid\n\n\n\n10.00-12.00 \n\n\n\nPlats\n\n\n\nNaturcentrum i Linköping\, Lasarettsgatan 1.  \n\n\n\nÖvrigt\n\n\n\nAnsvarig: peter.henriksson@rovdjur.se Ingen anmälan behövs \n\n\n\n \n\n\n\n \n\n\n\n\n\nAnmäl dig här\n\n\n\nSe ovan
URL:https://rovdjur.se/aktivitet/ostergotland-rovdjurskul-pa-sportlovet/
CATEGORIES:Aktiviteter/Kalender
ATTACH;FMTTYPE=image/jpeg:https://rovdjur.se/wp-content/uploads/2022/12/ostergotland.jpg
END:VEVENT
BEGIN:VEVENT
DTSTART;TZID=Europe/Stockholm:20250208T100000
DTEND;TZID=Europe/Stockholm:20250208T150000
DTSTAMP:20260421T143307
CREATED:20241128T143704Z
LAST-MODIFIED:20260228T183559Z
UID:10000135-1739008800-1739026800@rovdjur.se
SUMMARY:ÖSTERGÖTLAND: Spårning av varg
DESCRIPTION:I vargreviret Långbogen norr om Ljungsbro finns goda möjligheter att hitta spår och spillning efter varg. Naturligtvis tittar vi även på andra spår som vi hittar. Vi ger oss ut på vandring\, mestadels på vägar\, men viss terrängspårning kan det bli. Ta med matsäck – och kläder efter väder. Du får lära dig enkel spårningsteknik och om vargens liv och leverne. \n\n\n\n\n\nTid\n\n\n\nSamling klockan 09.30 Åter cirka kl 15.00 \n\n\n\nPlats\n\n\n\nSamling vid parkeringen vid ”Hällestadskorset” på vägen mellan Berg och Tjällmo (väg 1120)\, ca 13 km norr om Bergs slussar. \n\n\n\nÖvrigt\n\n\n\nAnmälan: med e-post till  antonhedström@gmail.com  (Antons tel.nr är 0768 30 04 39) \n\n\n\n \n\n\n\n\n\nAnmäl dig här\n\n\n\nSe ovan
URL:https://rovdjur.se/aktivitet/ostergotland-sparning-av-varg/
CATEGORIES:Aktiviteter/Kalender
ATTACH;FMTTYPE=image/jpeg:https://rovdjur.se/wp-content/uploads/2022/09/spårkurs_webb.jpg
END:VEVENT
BEGIN:VEVENT
DTSTART;TZID=Europe/Stockholm:20250201T100000
DTEND;TZID=Europe/Stockholm:20250201T150000
DTSTAMP:20260421T143307
CREATED:20241128T143144Z
LAST-MODIFIED:20260228T183600Z
UID:10000134-1738404000-1738422000@rovdjur.se
SUMMARY:ÖSTERGÖTLAND: Spårning av lodjur i Väsby branter
DESCRIPTION:Väsby branter\, som ligger vid Slätmon mellan Rimforsa och Kisa\, är ett säkert ställe att hitta spår av lodjur om väderförhållandena medger. Det är också här som Kjell Bäcklund\, Svenska Rovdjursföreningen Östergötland\, bedriver projektet Ostrogothia lynx tillsammans med Kinda kommun och företaget Qulinda AB. Projektet har ett flertal kameror utplacerade i området. Beroende på var lodjuren rört sig bör man som deltagare inte vara helt ovan att röra sig i terräng. \n\n\n\nMedtag matsäck. \n\n\n\nTid: kl 10.00 – 15.00 (ca) \n\n\n\n\n\nTid\n\n\n\nSamling klockan 10.00 \n\n\n\nPlats\n\n\n\nSamling vid bensinstationen vid rondellen i Rimforsa (till höger om väg 23/34\, om du kommer från Linköping) \n\n\n\nÖvrigt\n\n\n\nAnmälan: med e-post till kjell.backlund@rovdjur.se (Kjells tel.nr är 0704 83 94 09) \n\n\n\n \n\n\n\n\n\nAnmäl dig här\n\n\n\nSe ovan
URL:https://rovdjur.se/aktivitet/ostergotland-sparning-av-lodjur-i-vasby-branter/
CATEGORIES:Aktiviteter/Kalender
ATTACH;FMTTYPE=image/jpeg:https://rovdjur.se/wp-content/uploads/2024/02/090227-06-Lodjur-hane.jpg
END:VEVENT
BEGIN:VEVENT
DTSTART;TZID=Europe/Stockholm:20250125T100000
DTEND;TZID=Europe/Stockholm:20250125T150000
DTSTAMP:20260421T143307
CREATED:20241128T142353Z
LAST-MODIFIED:20260228T183600Z
UID:10000133-1737799200-1737817200@rovdjur.se
SUMMARY:ÖSTERGÖTLAND: Spårning av lodjur i Kolmården
DESCRIPTION:Under ledning av fågelfotografen Mårten Lundgren och den erfarne spåraren Thomas Karlsson\, som har god kännedom om markerna i Kolmården\, ger vi oss ut och letar spår av lodjur. Vandringen sker mestadels i kuperad skogsterräng. Medtag matsäck\, som vi äter på en naturskön plats. \n\n\n\nTid: kl 10.00 – 15.00 (ca) \n\n\n\n\n\nTid\n\n\n\nSamling klockan 10.00 \n\n\n\nPlats\n\n\n\nSamling vid P-platsen vid Krokeks jänvägsstation \n\n\n\nÖvrigt\n\n\n\nAnmälan: med e-post till maarten.lundgren@gmail.com (Mårtens tel.nr är 0708 28 32 20) \n\n\n\n \n\n\n\n\n\nAnmäl dig här\n\n\n\nSe ovan
URL:https://rovdjur.se/aktivitet/ostergotland-sparning-av-lodjur-i-kolmarden/
CATEGORIES:Aktiviteter/Kalender
ATTACH;FMTTYPE=image/jpeg:https://rovdjur.se/wp-content/uploads/2024/02/090227-06-Lodjur-hane.jpg
END:VEVENT
BEGIN:VEVENT
DTSTART;TZID=Europe/Stockholm:20241128T140000
DTEND;TZID=Europe/Stockholm:20241128T150000
DTSTAMP:20260421T143307
CREATED:20240813T150810Z
LAST-MODIFIED:20260228T183600Z
UID:10000123-1732802400-1732806000@rovdjur.se
SUMMARY:ÖSTERGÖTLAND: Rovdjursinformation i Equmeniakyrkan i Linköping
DESCRIPTION:Vi har blivit inbjudna till Equmeniakyrkan för att tala om ”Våra värdefulla rovdjur”  \n\n\n\nVälkommen du också! \n\n\n\n\n\n \n\n\n\n \n\n\n\n\n\nAnmäl dig här
URL:https://rovdjur.se/aktivitet/ostergotland-rovdjursinformation-i-equmeniakyrkan-i-linkoping/
CATEGORIES:Aktiviteter/Kalender
ATTACH;FMTTYPE=image/jpeg:https://rovdjur.se/wp-content/uploads/2024/08/Kyrksal-Forelasning.jpg
END:VEVENT
BEGIN:VEVENT
DTSTART;TZID=Europe/Stockholm:20241121T190000
DTEND;TZID=Europe/Stockholm:20241121T210000
DTSTAMP:20260421T143307
CREATED:20241002T103358Z
LAST-MODIFIED:20260228T183600Z
UID:10000125-1732215600-1732222800@rovdjur.se
SUMMARY:ÖSTERGÖTLAND: Presentation av Östergötlands stora rovdjur i Linköping
DESCRIPTION:Vi bjuder in både medlemmar och allmänhet till en kväll med information om hur de stora rovdjuren som vi har i länet lever\, var de finns\, vilka hot de lever under och vad vi kan göra för att skydda dem. I pausen bjuder vi på kaffe/te och smörgås. \n\n\n\nVälkommen! \n\n\n\n\n\nTid\n\n\n\nKl 19.00 – 21:00 cirka \n\n\n\nPlats\n\n\n\nNaturcentrum i Linköping\, Lasarettsgatan 1 \n\n\n\nÖvrigt\n\n\n\nIngen anmälan behövs. \n\n\n\n \n\n\n\n\n\nAnmäl dig här
URL:https://rovdjur.se/aktivitet/ostergotland-presentation-av-ostergotlands-stora-rovdjur-i-linkoping/
CATEGORIES:Aktiviteter/Kalender
ATTACH;FMTTYPE=image/jpeg:https://rovdjur.se/wp-content/uploads/2024/10/vargLo.jpg
END:VEVENT
BEGIN:VEVENT
DTSTART;TZID=Europe/Stockholm:20240915T110000
DTEND;TZID=Europe/Stockholm:20240915T130000
DTSTAMP:20260421T143307
CREATED:20240813T150329Z
LAST-MODIFIED:20260228T183601Z
UID:10000122-1726398000-1726405200@rovdjur.se
SUMMARY:ÖSTERGÖTLAND: Medlemsmöte i Borkhult/Hästenäs
DESCRIPTION:Medlemsmöte i Borkhult/HästenäsVi träffas och pratar och om rovdjuren i Östergötland\, samt våra kommande aktiviteter.Föreningen bjuder på kaffe och fralla. \n\n\n\n\n\nTid\n\n\n\nK 11.00 – 13.00 cirka \n\n\n\nPlats\n\n\n\nBorkhult/Hästenäs naturreservat \n\n\n\nÖvrigt\n\n\n\nAnmälan via mejl\, se nedan. \n\n\n\n \n\n\n\n\n\nAnmäl dig här\n\n\n\nSe ovan
URL:https://rovdjur.se/aktivitet/ostergotland-vandring-med-overnattning-2/
CATEGORIES:Aktiviteter/Kalender
ATTACH;FMTTYPE=image/jpeg:https://rovdjur.se/wp-content/uploads/2021/08/Default-oga-logo.jpg
END:VEVENT
BEGIN:VEVENT
DTSTART;TZID=Europe/Stockholm:20240914T000000
DTEND;TZID=Europe/Stockholm:20240915T110000
DTSTAMP:20260421T143307
CREATED:20240813T145826Z
LAST-MODIFIED:20260228T183615Z
UID:10000121-1726272000-1726398000@rovdjur.se
SUMMARY:ÖSTERGÖTLAND: Vandring med övernattning
DESCRIPTION:Vandring med övernattning i naturreservatet Hästenäs kyrkskogI reservatet rör sig lodjur och många andra djur. Vandringen avslutas i tid för att på söndagen kunna vara med på föreningens medlemsmöte på söndagen i Borkhult\, som ligger strax intill naturreservatet.  \n\n\n\n\n\nTid\n\n\n\nSamling klockan 11.00 \n\n\n\nPlats\n\n\n\nPlats meddelas några dagar i förväg. Samling klockan 11.00. \n\n\n\nÖvrigt\n\n\n\nAnmälan via mejl\, se nedan. \n\n\n\n \n\n\n\n\n\nAnmäl dig här\n\n\n\nSe ovan
URL:https://rovdjur.se/aktivitet/ostergotland-vandring-med-overnattning/
CATEGORIES:Aktiviteter/Kalender
ATTACH;FMTTYPE=image/jpeg:https://rovdjur.se/wp-content/uploads/2023/02/Langbogen.jpg
END:VEVENT
BEGIN:VEVENT
DTSTART;TZID=Europe/Stockholm:20240914T000000
DTEND;TZID=Europe/Stockholm:20240914T000000
DTSTAMP:20260421T143307
CREATED:20240813T145205Z
LAST-MODIFIED:20260228T183615Z
UID:10000119-1726272000-1726272000@rovdjur.se
SUMMARY:ÖSTERGÖTLAND: Svamptur i vargskogen
DESCRIPTION:Svamputflykt i vargskogen.I samarbete med svampklubben bjuder vi in till en utflykt i något av våra vargrevir. Vi får chansen att lära oss nya svampar att plocka och äta – och vi kommer att passa på att berätta om vargens liv och leverne vid lämpligt tillfälle. \n\n\n\n\n\nTid\n\n\n\nTid och plats meddelas några dagar i förväg. \n\n\n\nPlats\n\n\n\nTid och plats meddelas några dagar i förväg. \n\n\n\nÖvrigt\n\n\n\nAnmälan via mejl\, se nedan. \n\n\n\n \n\n\n\n\n\nAnmäl dig här\n\n\n\nSe ovan
URL:https://rovdjur.se/aktivitet/ostergotland-svamptur-i-vargskogen/
CATEGORIES:Aktiviteter/Kalender
ATTACH;FMTTYPE=image/jpeg:https://rovdjur.se/wp-content/uploads/2024/08/fungus-1194380_1280.jpg
END:VEVENT
BEGIN:VEVENT
DTSTART;TZID=Europe/Stockholm:20240907T100000
DTEND;TZID=Europe/Stockholm:20240907T150000
DTSTAMP:20260421T143307
CREATED:20240813T144807Z
LAST-MODIFIED:20260228T183616Z
UID:10000120-1725703200-1725721200@rovdjur.se
SUMMARY:ÖSTERGÖTLAND: Medverkan på Husbyfjöls Marknad
DESCRIPTION:Vi ställer upp vårt marknadstält vid marknadens start och stannar hela dagen. Här brukar många stanna till och berätta om egna möten med både varg och lo\, och vi får möjlighet att informera om rovdjurens viktiga roll\, samt (förstås) dela ut våra fina broschyrer. Mjukisdjuren bruka gå åt här när barnfamiljer stannar till. Välkommen du också! \n\n\n\n\n\nTid\n\n\n\nKl 10.00 – 15:00 cirka \n\n\n\nPlats\n\n\n\nBorensberg \n\n\n\nÖvrigt\n\n\n\nOffentligt arrangemang\, här finns även knallar\, underhållning\, förtäring mm. Ingen begränsning eller anmälan behövs \n\n\n\n \n\n\n\n\n\nAnmäl dig här\n\n\n\nSe ovan
URL:https://rovdjur.se/aktivitet/ostergotland-medverkan-pa-husbyfjols-marknad/
CATEGORIES:Aktiviteter/Kalender
ATTACH;FMTTYPE=image/jpeg:https://rovdjur.se/wp-content/uploads/2024/05/Anton_1006-scaled.jpg
END:VEVENT
BEGIN:VEVENT
DTSTART;TZID=Europe/Stockholm:20240823T100000
DTEND;TZID=Europe/Stockholm:20240825T150000
DTSTAMP:20260421T143307
CREATED:20240813T144554Z
LAST-MODIFIED:20260228T183616Z
UID:10000118-1724407200-1724598000@rovdjur.se
SUMMARY:ÖSTERGÖTLAND: Medverkan på Ljungsbro Marknad
DESCRIPTION:Vi ställer upp vårt marknadstält vid marknadens start och stannar hela dagen. Här brukar många stanna till och berätta om egna möten med både varg och lo\, och vi får möjlighet att informera om rovdjurens viktiga roll\, samt (förstås) dela ut våra fina broschyrer. Mjukisdjuren bruka gå åt här när barnfamiljer stannar till. Välkommen du också! \n\n\n\n\n\nTid\n\n\n\nKl 10.00 – 15:00 cirka \n\n\n\nPlats\n\n\n\nLjungsbro \n\n\n\nÖvrigt\n\n\n\nOffentligt arrangemang\, här finns även knallar\, underhållning\, förtäring mm. Ingen begränsning eller anmälan behövs \n\n\n\n \n\n\n\n\n\nAnmäl dig här\n\n\n\nSe ovan
URL:https://rovdjur.se/aktivitet/ostergotland-medverkan-pa-ljungsbro-marknad/
CATEGORIES:Aktiviteter/Kalender
ATTACH;FMTTYPE=image/jpeg:https://rovdjur.se/wp-content/uploads/2024/05/Anton_1006-scaled.jpg
END:VEVENT
BEGIN:VEVENT
DTSTART;TZID=Europe/Stockholm:20240531T100000
DTEND;TZID=Europe/Stockholm:20240531T150000
DTSTAMP:20260421T143307
CREATED:20240507T072707Z
LAST-MODIFIED:20260228T183616Z
UID:10000116-1717149600-1717167600@rovdjur.se
SUMMARY:ÖSTERGÖTLAND: Medverkan på Finspångs Marknad (FinspongaMarken)
DESCRIPTION:Finspång ligger vid utkanten av Östergötlands första vargrevir i modern tid – Långbogen. Vi ställer upp vårt marknadstält vid marknadens start och stannar hela dagen. Här brukar många stanna till och berätta om egna möten med både varg och lo\, och vi får möjlighet att informera om rovdjurens viktiga roll\, samt (förstås) dela ut våra fina broschyrer. Mjukisdjuren bruka gå åt här när barnfamiljer stannar till. Välkommen du också! \n\n\n\n\n\nTid\n\n\n\nKl 10.00 – 15:00 cirka \n\n\n\nPlats\n\n\n\nFinspång \n\n\n\nÖvrigt\n\n\n\nOffentligt arrangemang\, här finns även knallar\, underhållning\, förtäring mm. Ingen begränsning eller anmälan behövs \n\n\n\n \n\n\n\n\n\nAnmäl dig här\n\n\n\nSe ovan
URL:https://rovdjur.se/aktivitet/ostergotland-medverkan-pa-finspangs-marknad-finspongamarken/
CATEGORIES:Aktiviteter/Kalender
ATTACH;FMTTYPE=image/jpeg:https://rovdjur.se/wp-content/uploads/2024/05/Anton_1006-scaled.jpg
END:VEVENT
BEGIN:VEVENT
DTSTART;TZID=Europe/Stockholm:20240525T183000
DTEND;TZID=Europe/Stockholm:20240525T210000
DTSTAMP:20260421T143307
CREATED:20240507T072030Z
LAST-MODIFIED:20260228T183617Z
UID:10000115-1716661800-1716670800@rovdjur.se
SUMMARY:ÖSTERGÖTLAND: Medverkan på Tjällmo Marknad
DESCRIPTION:Lite mitt emellan våra tre vargrevir – Långbogen\, Fågelmossen och Tisaren – ligger Tjällmo. Vi har vårt marknadstält uppställt från morgon till sen eftermiddag\, delar ut material\, informerar och pratar med besökare. Välkommen att stanna till en stund\, för att prata med oss eller med andra som stannar till hos oss\, om du besöker den trevliga marknaden i Tjällmo. \n\n\n\nVälkommen! \n\n\n\n\n\nTid\n\n\n\nKl 10.00 – 15:00 cirka \n\n\n\nPlats\n\n\n\nTjällmo  \n\n\n\nÖvrigt\n\n\n\nOffentligt arrangemang\, här finns även knallar\, underhållning\, ponnyridning mm. Ingen begränsning eller anmälan behövs \n\n\n\n \n\n\n\n\n\nAnmäl dig här\n\n\n\nSe ovan
URL:https://rovdjur.se/aktivitet/ostergotland-medverkan-pa-tjallmo-marknad/
CATEGORIES:Aktiviteter/Kalender
ATTACH;FMTTYPE=image/jpeg:https://rovdjur.se/wp-content/uploads/2024/05/Anton_1006-scaled.jpg
END:VEVENT
BEGIN:VEVENT
DTSTART;TZID=Europe/Stockholm:20240319T183000
DTEND;TZID=Europe/Stockholm:20240319T210000
DTSTAMP:20260421T143307
CREATED:20240304T111253Z
LAST-MODIFIED:20260228T183618Z
UID:10000106-1710873000-1710882000@rovdjur.se
SUMMARY:ÖSTERGÖTLAND: Inspiration och information
DESCRIPTION:Välkommen till en kväll med  INSPIRATION och INFORMATION  \n\n\n\nAktiva i föreningen här i Östergötland berättar om hur vi arbetar: Utflykter\, stängslingar\, information\, insändare/debattartiklar\, medverkan vid marknader\, samverkan med andra organisationer och en hel del annat. Vi vill också höra dina synpunkter på vad vi kan göra bättre och annorlunda.  \n\n\n\nÅrets planerade aktiviteter (fler kan tillkomma) presenteras. Kanske blir du inspirerad att medverka vid något tillfälle?  \n\n\n\nLite ”nöje” bjuder vi också på:  \n\n\n\nChrister Davidsson visar bilder från östra Afrika\, bl a från ett besök hos bergsgorillorna samt hur en lejonflock lägger omkull en buffel.  \n\n\n\nVi bjuder på kaffe/te och smörgås i pausen.  \n\n\n\nVälkommen! \n\n\n\n\n\nTid\n\n\n\nKl 18.30 – 21.00 cirka \n\n\n\nPlats\n\n\n\nNaturcentrum Linköping\, Lasarettsgatan 1\, i Trädgårdsföreningen \n\n\n\nÖvrigt\n\n\n\nGratis medlemsaktivitet. Anmäl dig nedan så vi vet hur många mackor vi behöver göra.  \n\n\n\nAntal platser\n\n\n\n \n\n\n\n\n\nAnmäl dig här\n\n\n\nSe ovan
URL:https://rovdjur.se/aktivitet/ostergotland-inspiration-och-information/
CATEGORIES:Aktiviteter/Kalender
ATTACH;FMTTYPE=image/jpeg:https://rovdjur.se/wp-content/uploads/2024/03/Bild1.jpg
END:VEVENT
END:VCALENDAR